BEGIN:VCALENDAR
VERSION:2.0
PRODID:-//Investment Treaty News - ECPv5.4.0.2//NONSGML v1.0//EN
CALSCALE:GREGORIAN
METHOD:PUBLISH
X-WR-CALNAME:Investment Treaty News
X-ORIGINAL-URL:https://test.iisd.org/itn/es
X-WR-CALDESC:Eventos para Investment Treaty News
BEGIN:VTIMEZONE
TZID:America/Winnipeg
BEGIN:DAYLIGHT
TZOFFSETFROM:-0600
TZOFFSETTO:-0500
TZNAME:CDT
DTSTART:20190310T080000
END:DAYLIGHT
BEGIN:STANDARD
TZOFFSETFROM:-0500
TZOFFSETTO:-0600
TZNAME:CST
DTSTART:20191103T070000
END:STANDARD
END:VTIMEZONE
BEGIN:VEVENT
DTSTART;VALUE=DATE:20190918
DTEND;VALUE=DATE:20190920
DTSTAMP:20210316T045822
CREATED:20190919T031910Z
LAST-MODIFIED:20190919T031910Z
UID:6782-1568764800-1568937599@test.iisd.org
SUMMARY:CONFERENCIA CONJUNTA ITA-IEL-CCI SOBRE ARBITRAJE INTERNACIONAL EN MATERIA DE ENERGÍA
DESCRIPTION:CONFERENCIA CONJUNTA ITA-IEL-CCI SOBRE ARBITRAJE INTERNACIONAL EN MATERIA DE ENERGÍA\, Institute for Transnational Arbitration\, Institute for Energy Law of the Center for American and International Law\, Corte Internacional de Arbitraje de la CCI\, en Singapur\, http://www.cailaw.org/Institute-for-Transnational-Arbitration/Events/2019/ita-iel-icc-asia-conference.html
URL:https://test.iisd.org/itn/es/event/ita-iel-icc-joint-conference-on-international-energy-arbitration/
LOCATION:Regent Singapore\, 1 Cuscaden Rd.\, 249715\, Singapore
END:VEVENT
END:VCALENDAR