BEGIN:VCALENDAR
VERSION:2.0
PRODID:-//Investment Treaty News - ECPv5.4.0.2//NONSGML v1.0//EN
CALSCALE:GREGORIAN
METHOD:PUBLISH
X-WR-CALNAME:Investment Treaty News
X-ORIGINAL-URL:https://test.iisd.org/itn/es
X-WR-CALDESC:Eventos para Investment Treaty News
BEGIN:VTIMEZONE
TZID:America/Winnipeg
BEGIN:DAYLIGHT
TZOFFSETFROM:-0600
TZOFFSETTO:-0500
TZNAME:CDT
DTSTART:20190310T080000
END:DAYLIGHT
BEGIN:STANDARD
TZOFFSETFROM:-0500
TZOFFSETTO:-0600
TZNAME:CST
DTSTART:20191103T070000
END:STANDARD
END:VTIMEZONE
BEGIN:VEVENT
DTSTART;VALUE=DATE:20191003
DTEND;VALUE=DATE:20191005
DTSTAMP:20210316T045923
CREATED:20190627T152840Z
LAST-MODIFIED:20190919T031909Z
UID:6492-1570060800-1570233599@test.iisd.org
SUMMARY:14ta CONFERENCIA DE LA CCI EN NUEVA YORK SOBRE ARBITRAJE INTERNACIONAL
DESCRIPTION:14ta CONFERENCIA DE LA CCI EN NUEVA YORK SOBRE ARBITRAJE INTERNACIONAL\, Cámara de Comercio Internacional\, en Nueva York\, Estados Unidos\, https://iccwbo.org/event/icc-new-york-conference-international-arbitration
URL:https://test.iisd.org/itn/es/event/14th-icc-new-york-conference-on-international-arbitration/
LOCATION:International Chamber of Commerce\, 140 East 45th Street\, New York\, New York\, 10017\, United States
END:VEVENT
BEGIN:VEVENT
DTSTART;VALUE=DATE:20191003
DTEND;VALUE=DATE:20191005
DTSTAMP:20210316T045923
CREATED:20190919T031909Z
LAST-MODIFIED:20190919T031909Z
UID:6793-1570060800-1570233599@test.iisd.org
SUMMARY:14ta CONFERENCIA DE LA CCI EN NUEVA YORK SOBRE ARBITRAJE INTERNACIONAL
DESCRIPTION:14ta CONFERENCIA DE LA CCI EN NUEVA YORK SOBRE ARBITRAJE INTERNACIONAL\, Cámara de Comercio Internacional\, en Nueva York\, Estados Unidos\, https://iccwbo.org/event/icc-new-york-conference-international-arbitration
URL:https://test.iisd.org/itn/es/event/14th-icc-new-york-conference-on-international-arbitration-2/
LOCATION:International Chamber of Commerce\, 140 East 45th Street\, New York\, New York\, 10017\, United States
END:VEVENT
END:VCALENDAR