BEGIN:VCALENDAR
VERSION:2.0
PRODID:-//Investment Treaty News - ECPv5.4.0.2//NONSGML v1.0//EN
CALSCALE:GREGORIAN
METHOD:PUBLISH
X-WR-CALNAME:Investment Treaty News
X-ORIGINAL-URL:https://test.iisd.org/itn/es
X-WR-CALDESC:Eventos para Investment Treaty News
BEGIN:VTIMEZONE
TZID:America/Winnipeg
BEGIN:DAYLIGHT
TZOFFSETFROM:-0600
TZOFFSETTO:-0500
TZNAME:CDT
DTSTART:20190310T080000
END:DAYLIGHT
BEGIN:STANDARD
TZOFFSETFROM:-0500
TZOFFSETTO:-0600
TZNAME:CST
DTSTART:20191103T070000
END:STANDARD
END:VTIMEZONE
BEGIN:VEVENT
DTSTART;VALUE=DATE:20191025
DTEND;VALUE=DATE:20191027
DTSTAMP:20210316T052547
CREATED:20190627T152840Z
LAST-MODIFIED:20190919T031909Z
UID:6233-1571961600-1572134399@test.iisd.org
SUMMARY:FORO DE COMERCIO MUNDIAL\, “SOLUCIÓN DE CONTROVERSIAS ECONÓMICAS INTERNACIONALES: ¿DESAPARICIÓN O TRANSFORMACIÓN?”
DESCRIPTION:FORO DE COMERCIO MUNDIAL\, “SOLUCIÓN DE CONTROVERSIAS ECONÓMICAS INTERNACIONALES: ¿DESAPARICIÓN O TRANSFORMACIÓN?”\, en World Trade Institute (WTI) de la Universidad de Bern y el Instituto Universitario Europeo (UE)\, Bern\, Suiza\, https://www.wti.org/media/filer_public/b1/2e/b12e1c5d-8def-40ad-92bf-6c77cd3ffcfb/call_for_papers_wtf_2019.pdf
URL:https://test.iisd.org/itn/es/event/world-trade-forum-international-economic-dispute-settlement-demise-or-transformation/
LOCATION:World Trade Institute (WTI) of theUniversity of Bern\, Hallerstrasse 6 \, Bern\, 3012\, Switzerland
END:VEVENT
BEGIN:VEVENT
DTSTART;VALUE=DATE:20191025
DTEND;VALUE=DATE:20191027
DTSTAMP:20210316T052547
CREATED:20190919T031909Z
LAST-MODIFIED:20190919T031909Z
UID:6802-1571961600-1572134399@test.iisd.org
SUMMARY:FORO MUNDIAL DE COMERCIO\, “SOLUCIÓN DE CONTROVERSIAS ECONÓMICAS INTERNACIONALES: ¿DESAPARICIÓN O TRANSFORMACIÓN?”
DESCRIPTION:FORO MUNDIAL DE COMERCIO\, “SOLUCIÓN DE CONTROVERSIAS ECONÓMICAS INTERNACIONALES: ¿DESAPARICIÓN O TRANSFORMACIÓN?” en World Trade Institute (WTI) de la Universidad de Bern y European University Institute (EU)\, Bern\, Suiza\, https://www.wti.org/media/filer_public/b1/2e/b12e1c5d-8def-40ad-92bf-6c77cd3ffcfb/call_for_papers_wtf_2019.pdf
URL:https://test.iisd.org/itn/es/event/world-trade-forum-international-economic-dispute-settlement-demise-or-transformation-2/
LOCATION:World Trade Institute (WTI) of theUniversity of Bern\, Hallerstrasse 6 \, Bern\, 3012\, Switzerland
END:VEVENT
END:VCALENDAR