BEGIN:VCALENDAR
VERSION:2.0
PRODID:-//Investment Treaty News - ECPv5.4.0.2//NONSGML v1.0//EN
CALSCALE:GREGORIAN
METHOD:PUBLISH
X-WR-CALNAME:Investment Treaty News
X-ORIGINAL-URL:https://test.iisd.org/itn/es
X-WR-CALDESC:Eventos para Investment Treaty News
BEGIN:VTIMEZONE
TZID:America/Winnipeg
BEGIN:DAYLIGHT
TZOFFSETFROM:-0600
TZOFFSETTO:-0500
TZNAME:CDT
DTSTART:20200308T080000
END:DAYLIGHT
BEGIN:STANDARD
TZOFFSETFROM:-0500
TZOFFSETTO:-0600
TZNAME:CST
DTSTART:20201101T070000
END:STANDARD
END:VTIMEZONE
BEGIN:VEVENT
DTSTART;VALUE=DATE:20200723
DTEND;VALUE=DATE:20200725
DTSTAMP:20210316T065629
CREATED:20200625T203557Z
LAST-MODIFIED:20200625T203557Z
UID:7966-1595462400-1595635199@test.iisd.org
SUMMARY:Concurso de Arbitraje Internacional
DESCRIPTION:Concurso de Arbitraje Internacional\, Tribunal de Arbitraje de Lagos – Asociación de Árbitros Jóvenes\, https://afaa.ngo/event-3777526
URL:https://test.iisd.org/itn/es/event/international-arbitration-moot-competition/
LOCATION:LAGOS\, Nigeria\, Lagos\, Nigeria
END:VEVENT
END:VCALENDAR