BEGIN:VCALENDAR
VERSION:2.0
PRODID:-//Investment Treaty News - ECPv5.4.0.2//NONSGML v1.0//EN
CALSCALE:GREGORIAN
METHOD:PUBLISH
X-WR-CALNAME:Investment Treaty News
X-ORIGINAL-URL:https://test.iisd.org/itn/fr
X-WR-CALDESC:évènements pour Investment Treaty News
BEGIN:VTIMEZONE
TZID:America/Winnipeg
BEGIN:DAYLIGHT
TZOFFSETFROM:-0600
TZOFFSETTO:-0500
TZNAME:CDT
DTSTART:20180311T080000
END:DAYLIGHT
BEGIN:STANDARD
TZOFFSETFROM:-0500
TZOFFSETTO:-0600
TZNAME:CST
DTSTART:20181104T070000
END:STANDARD
END:VTIMEZONE
BEGIN:VEVENT
DTSTART;VALUE=DATE:20180207
DTEND;VALUE=DATE:20180210
DTSTAMP:20210316T051522
CREATED:20170616T135702Z
LAST-MODIFIED:20180108T191724Z
UID:4219-1517961600-1518220799@test.iisd.org
SUMMARY:11e Forum annuel des négociateurs d'investissement des pays en développement
DESCRIPTION:Kenya Investment Authority (KenInvest)\, IISD et South Centre\, Nairobi\, Kenya\, http://www.iisd.org/event/11th-annual-forum-developing-country-investment-negotiators \nPartagezTweetezPartagez0 Partages
URL:https://test.iisd.org/itn/fr/event/11th-annual-forum-of-developing-country-investment-negotiators/
ATTACH;FMTTYPE=image/png:https://test.iisd.org/itn/wp-content/uploads/2017/06/11th-forum-save-the-date-2017-small.png
END:VEVENT
END:VCALENDAR