BEGIN:VCALENDAR
VERSION:2.0
PRODID:-//Investment Treaty News - ECPv5.4.0.2//NONSGML v1.0//EN
CALSCALE:GREGORIAN
METHOD:PUBLISH
X-WR-CALNAME:Investment Treaty News
X-ORIGINAL-URL:https://test.iisd.org/itn/fr
X-WR-CALDESC:évènements pour Investment Treaty News
BEGIN:VTIMEZONE
TZID:America/Winnipeg
BEGIN:DAYLIGHT
TZOFFSETFROM:-0600
TZOFFSETTO:-0500
TZNAME:CDT
DTSTART:20180311T080000
END:DAYLIGHT
BEGIN:STANDARD
TZOFFSETFROM:-0500
TZOFFSETTO:-0600
TZNAME:CST
DTSTART:20181104T070000
END:STANDARD
END:VTIMEZONE
BEGIN:VEVENT
DTSTART;TZID=America/Winnipeg:20180911T090000
DTEND;TZID=America/Winnipeg:20180911T180000
DTSTAMP:20210316T050652
CREATED:20181221T164829Z
LAST-MODIFIED:20181221T164829Z
UID:5436-1536656400-1536688800@test.iisd.org
SUMMARY:FORUM 2018 DU TRAITÉ SUR LA CHARTE DE L’ÉNERGIE
DESCRIPTION:FORUM 2018 DU TRAITÉ SUR LA CHARTE DE L’ÉNERGIE\, Centre international pour le règlement des différends relatifs aux investissements (CIRDI)\, Institut d’arbitrage de la Chambre du commerce Stockholm (CCS)\, Secrétariat de la Charte de l’énergie (ECS) & Cour permanente d’arbitrage (CPA)\, à la Banque mondiale\, Paris\, France\, https://icsid.worldbank.org/fr/Pages/Events.aspx?CID=179 \nPartagezTweetezPartagez0 Partages
URL:https://test.iisd.org/itn/fr/event/2018-energy-charter-treaty-forum/
LOCATION:The World Bank\, d'Iéna\, 66 Avenue d'Iéna\, Paris\, Paris\, 75116\, France
END:VEVENT
END:VCALENDAR