BEGIN:VCALENDAR
VERSION:2.0
PRODID:-//Investment Treaty News - ECPv5.4.0.2//NONSGML v1.0//EN
CALSCALE:GREGORIAN
METHOD:PUBLISH
X-WR-CALNAME:Investment Treaty News
X-ORIGINAL-URL:https://test.iisd.org/itn/fr
X-WR-CALDESC:évènements pour Investment Treaty News
BEGIN:VTIMEZONE
TZID:America/Winnipeg
BEGIN:DAYLIGHT
TZOFFSETFROM:-0600
TZOFFSETTO:-0500
TZNAME:CDT
DTSTART:20180311T080000
END:DAYLIGHT
BEGIN:STANDARD
TZOFFSETFROM:-0500
TZOFFSETTO:-0600
TZNAME:CST
DTSTART:20181104T070000
END:STANDARD
END:VTIMEZONE
BEGIN:VEVENT
DTSTART;VALUE=DATE:20181001
DTEND;VALUE=DATE:20181006
DTSTAMP:20210316T050433
CREATED:20181221T164804Z
LAST-MODIFIED:20181221T164804Z
UID:5449-1538352000-1538783999@test.iisd.org
SUMMARY:21ème SESSION DU GROUPE DE TRAVAIL SUR LA QUESTION DES DROITS DE L’HOMME ET DES SOCIÉTÉS TRANSNATIONALES ET AUTRES ENTREPRISES
DESCRIPTION:21ème SESSION DU GROUPE DE TRAVAIL SUR LA QUESTION DES DROITS DE L’HOMME ET DES SOCIÉTÉS TRANSNATIONALES ET AUTRES ENTREPRISES\, au Palais des Nations\, Genève\, Suisse\, https://www.ohchr.org/FR/Issues/Business/Pages/WGSessions.aspx \nPartagezTweetezPartagez0 Partages
URL:https://test.iisd.org/itn/fr/event/21st-session-of-the-working-group-on-the-issue-of-human-rights-and-transnational-corporations-and-other-business-enterprises/
LOCATION:Palais des Nations\, 1211 Geneva\, Geneva\, Switzerland
END:VEVENT
END:VCALENDAR