BEGIN:VCALENDAR
VERSION:2.0
PRODID:-//Investment Treaty News - ECPv5.4.0.2//NONSGML v1.0//EN
CALSCALE:GREGORIAN
METHOD:PUBLISH
X-WR-CALNAME:Investment Treaty News
X-ORIGINAL-URL:https://test.iisd.org/itn/fr
X-WR-CALDESC:évènements pour Investment Treaty News
BEGIN:VTIMEZONE
TZID:America/Winnipeg
BEGIN:DAYLIGHT
TZOFFSETFROM:-0600
TZOFFSETTO:-0500
TZNAME:CDT
DTSTART:20180311T080000
END:DAYLIGHT
BEGIN:STANDARD
TZOFFSETFROM:-0500
TZOFFSETTO:-0600
TZNAME:CST
DTSTART:20181104T070000
END:STANDARD
END:VTIMEZONE
BEGIN:VEVENT
DTSTART;VALUE=DATE:20181026
DTEND;VALUE=DATE:20181027
DTSTAMP:20210316T050438
CREATED:20181221T164803Z
LAST-MODIFIED:20181221T164803Z
UID:5683-1540512000-1540598399@test.iisd.org
SUMMARY:31ÈME CONFÉRENCE PUBLIQUE SUR L’ITF : LES DROITS HUMAINS DANS  LE DROIT INTERNATIONAL DES INVESTISSEMENTS
DESCRIPTION:31ÈME CONFÉRENCE PUBLIQUE SUR L’ITF : LES DROITS HUMAINS DANS  LE DROIT INTERNATIONAL DES INVESTISSEMENTS\, Investment Treaty Forum (ITF)\, à la British Academy\, Londres\, Royaume-Uni\, https://www.biicl.org/event/1331/thirty-first-itf-public-conference-human-rights-in-international-investment-law \nPartagezTweetezPartagez0 Partages
URL:https://test.iisd.org/itn/fr/event/31st-itf-public-conference-human-rights-in-international-investment-law/
END:VEVENT
END:VCALENDAR