BEGIN:VCALENDAR
VERSION:2.0
PRODID:-//Investment Treaty News - ECPv5.4.0.2//NONSGML v1.0//EN
CALSCALE:GREGORIAN
METHOD:PUBLISH
X-WR-CALNAME:Investment Treaty News
X-ORIGINAL-URL:https://test.iisd.org/itn/fr
X-WR-CALDESC:évènements pour Investment Treaty News
BEGIN:VTIMEZONE
TZID:America/Winnipeg
BEGIN:DAYLIGHT
TZOFFSETFROM:-0600
TZOFFSETTO:-0500
TZNAME:CDT
DTSTART:20180311T080000
END:DAYLIGHT
BEGIN:STANDARD
TZOFFSETFROM:-0500
TZOFFSETTO:-0600
TZNAME:CST
DTSTART:20181104T070000
END:STANDARD
END:VTIMEZONE
BEGIN:VEVENT
DTSTART;VALUE=DATE:20180423
DTEND;VALUE=DATE:20180428
DTSTAMP:20210316T051326
CREATED:20180108T191724Z
LAST-MODIFIED:20181221T164830Z
UID:4981-1524441600-1524873599@test.iisd.org
SUMMARY:35ème Session du Groupe de Travail III de la Commission des Nations Unies Pour le Droit Commercial International (CNUDCI) : Réforme Possible du Règlement des Différends entre Investisseurs et États (RDIE)
DESCRIPTION:35ème SESSION DU GROUPE DE TRAVAIL III DE LA COMMISSION DES NATIONS UNIES POUR LE DROIT COMMERCIAL INTERNATIONAL (CNUDCI) : RÉFORME POSSIBLE DU RÈGLEMENT DES DIFFÉRENDS ENTRE INVESTISSEURS ET ÉTATS (RDIE)\, New York\, États-Unis\, http://www.uncitral.org/uncitral/fr/commission/working_groups/3Investor_State.html \nPartagezTweetezPartagez0 Partages
URL:https://test.iisd.org/itn/fr/event/35th-session-of-working-group-iii-of-the-united-nations-commission-on-international-trade-law-uncitral-possible-reform-of-investor-state-dispute-settlement-isds/
LOCATION:New York\, New York\, United States
END:VEVENT
END:VCALENDAR