BEGIN:VCALENDAR
VERSION:2.0
PRODID:-//Investment Treaty News - ECPv5.4.0.2//NONSGML v1.0//EN
CALSCALE:GREGORIAN
METHOD:PUBLISH
X-WR-CALNAME:Investment Treaty News
X-ORIGINAL-URL:https://test.iisd.org/itn/fr
X-WR-CALDESC:évènements pour Investment Treaty News
BEGIN:VTIMEZONE
TZID:America/Winnipeg
BEGIN:DAYLIGHT
TZOFFSETFROM:-0600
TZOFFSETTO:-0500
TZNAME:CDT
DTSTART:20200308T080000
END:DAYLIGHT
BEGIN:STANDARD
TZOFFSETFROM:-0500
TZOFFSETTO:-0600
TZNAME:CST
DTSTART:20201101T070000
END:STANDARD
END:VTIMEZONE
BEGIN:VEVENT
DTSTART;TZID=America/Winnipeg:20200624T130000
DTEND;TZID=America/Winnipeg:20200624T140000
DTSTAMP:20210316T044032
CREATED:20200625T204009Z
LAST-MODIFIED:20200625T204009Z
UID:7964-1593003600-1593007200@test.iisd.org
SUMMARY:Entretien avec Anna Joubin-Bret\, la Secrétaire de la CNUDCI – 17ème Conférence ITA-ASIL
DESCRIPTION:Entretien avec Anna Joubin-Bret\, la Secrétaire de la CNUDCI – 17ème Conférence ITA-ASIL\, évènement virtuel\, 13h00-15h00 Heure de l’Est (GMT -04:00)\, https://www.cailaw.org/Institute-for-Transnational-Arbitration/Events/2020/ita-asil-c.html \nPartagezTweetezPartagez0 Partages
URL:https://test.iisd.org/itn/fr/event/an-interview-with-uncitral-secretary-anna-joubin-bret-17th-ita-asil-conference/
LOCATION:Online
END:VEVENT
END:VCALENDAR