BEGIN:VCALENDAR
VERSION:2.0
PRODID:-//Investment Treaty News - ECPv5.4.0.2//NONSGML v1.0//EN
CALSCALE:GREGORIAN
METHOD:PUBLISH
X-WR-CALNAME:Investment Treaty News
X-ORIGINAL-URL:https://test.iisd.org/itn/fr
X-WR-CALDESC:évènements pour Investment Treaty News
BEGIN:VTIMEZONE
TZID:America/Winnipeg
BEGIN:DAYLIGHT
TZOFFSETFROM:-0600
TZOFFSETTO:-0500
TZNAME:CDT
DTSTART:20170312T080000
END:DAYLIGHT
BEGIN:STANDARD
TZOFFSETFROM:-0500
TZOFFSETTO:-0600
TZNAME:CST
DTSTART:20171105T070000
END:STANDARD
END:VTIMEZONE
BEGIN:VEVENT
DTSTART;VALUE=DATE:20170629
DTEND;VALUE=DATE:20170701
DTSTAMP:20210316T052328
CREATED:20170616T135701Z
LAST-MODIFIED:20170626T163840Z
UID:4198-1498694400-1498867199@test.iisd.org
SUMMARY:Forum mondial sur la conduite responsable des entreprises
DESCRIPTION:Organisation de coopération et de développement économiques (OCDE)\, Paris\, France\, http://mneguidelines.oecd.org/global-forum \nPartagezTweetezPartagez0 Partages
URL:https://test.iisd.org/itn/fr/event/global-forum-on-responsible-business-conduct/
LOCATION:Organisation for Economic Co-operation and Development (OECD)\, 2\, rue André Pascal\, Paris Cedex 16\, 75775\, France
END:VEVENT
END:VCALENDAR