BEGIN:VCALENDAR
VERSION:2.0
PRODID:-//Investment Treaty News - ECPv5.4.0.2//NONSGML v1.0//EN
CALSCALE:GREGORIAN
METHOD:PUBLISH
X-WR-CALNAME:Investment Treaty News
X-ORIGINAL-URL:https://test.iisd.org/itn/fr
X-WR-CALDESC:évènements pour Investment Treaty News
BEGIN:VTIMEZONE
TZID:America/Winnipeg
BEGIN:DAYLIGHT
TZOFFSETFROM:-0600
TZOFFSETTO:-0500
TZNAME:CDT
DTSTART:20190310T080000
END:DAYLIGHT
BEGIN:STANDARD
TZOFFSETFROM:-0500
TZOFFSETTO:-0600
TZNAME:CST
DTSTART:20191103T070000
END:STANDARD
END:VTIMEZONE
BEGIN:VEVENT
DTSTART;VALUE=DATE:20191126
DTEND;VALUE=DATE:20191128
DTSTAMP:20210316T044602
CREATED:20190919T031909Z
LAST-MODIFIED:20190919T031909Z
UID:6814-1574726400-1574899199@test.iisd.org
SUMMARY:FORUM SUR LA CROISSANCE VERTE ET LE DÉVELOPPEMENT DURABLE
DESCRIPTION:FORUM SUR LA CROISSANCE VERTE ET LE DÉVELOPPEMENT DURABLE\, à l’OCDE\, à Paris\, France\, http://www.oecd.org/greengrowth/ggsd-forum.htm \nPartagez1TweetezPartagez1 Partages
URL:https://test.iisd.org/itn/fr/event/green-growth-and-sustainable-development-ggsd-forum/
LOCATION:OECD Conference Centre\, 2\, rue André Pascal\, Paris\, France
END:VEVENT
END:VCALENDAR