BEGIN:VCALENDAR
VERSION:2.0
PRODID:-//Investment Treaty News - ECPv5.4.0.2//NONSGML v1.0//EN
CALSCALE:GREGORIAN
METHOD:PUBLISH
X-WR-CALNAME:Investment Treaty News
X-ORIGINAL-URL:https://test.iisd.org/itn/fr
X-WR-CALDESC:évènements pour Investment Treaty News
BEGIN:VTIMEZONE
TZID:America/Winnipeg
BEGIN:DAYLIGHT
TZOFFSETFROM:-0600
TZOFFSETTO:-0500
TZNAME:CDT
DTSTART:20180311T080000
END:DAYLIGHT
BEGIN:STANDARD
TZOFFSETFROM:-0500
TZOFFSETTO:-0600
TZNAME:CST
DTSTART:20181104T070000
END:STANDARD
END:VTIMEZONE
BEGIN:VEVENT
DTSTART;TZID=America/Winnipeg:20181025T130000
DTEND;TZID=America/Winnipeg:20181025T143000
DTSTAMP:20210316T050454
CREATED:20181221T164803Z
LAST-MODIFIED:20181221T164803Z
UID:5679-1540472400-1540477800@test.iisd.org
SUMMARY:L’AVENIR DU RÈGLEMENT DES DIFFÉRENDS EN MATIÈRE D’INVESTISSEMENT : OPTIONS ET MODÈLES
DESCRIPTION:L’AVENIR DU RÈGLEMENT DES DIFFÉRENDS EN MATIÈRE D’INVESTISSEMENT : OPTIONS ET MODÈLES\, événement parallèle au Forum mondial de l’investissement 2018\, organisé par l’IISD\, la Commission internationale des juristes (CIJ) & Friedrich Ebert Stiftung (FES)\, au Palais des Nations\, Genève\, Suisse\, https://iisd.org/event/future-investment-related-dispute-settlement-options-and-models \nPartagezTweetezPartagez0 Partages
URL:https://test.iisd.org/itn/fr/event/the-future-of-investment-related-dispute-settlement-options-and-models/
LOCATION:Palais des Nations\, 1211 Geneva\, Geneva\, Switzerland
END:VEVENT
END:VCALENDAR