BEGIN:VCALENDAR
VERSION:2.0
PRODID:-//Investment Treaty News - ECPv5.4.0.2//NONSGML v1.0//EN
CALSCALE:GREGORIAN
METHOD:PUBLISH
X-WR-CALNAME:Investment Treaty News
X-ORIGINAL-URL:https://test.iisd.org/itn/fr
X-WR-CALDESC:évènements pour Investment Treaty News
BEGIN:VTIMEZONE
TZID:America/Winnipeg
BEGIN:DAYLIGHT
TZOFFSETFROM:-0600
TZOFFSETTO:-0500
TZNAME:CDT
DTSTART:20180311T080000
END:DAYLIGHT
BEGIN:STANDARD
TZOFFSETFROM:-0500
TZOFFSETTO:-0600
TZNAME:CST
DTSTART:20181104T070000
END:STANDARD
END:VTIMEZONE
BEGIN:VEVENT
DTSTART;TZID=America/Winnipeg:20180511T090000
DTEND;TZID=America/Winnipeg:20180511T170000
DTSTAMP:20210316T051200
CREATED:20180426T145327Z
LAST-MODIFIED:20181221T164829Z
UID:5137-1526029200-1526058000@test.iisd.org
SUMMARY:TRENTIÈME CONFÉRENCE PUBLIQUE DE L’ITF : L’EXÉCUTION DANS LE DROIT INTERNATIONAL DES INVESTISSEMENTS
DESCRIPTION:TRENTIÈME CONFÉRENCE PUBLIQUE DE L’ITF : L’EXÉCUTION DANS LE DROIT INTERNATIONAL DES INVESTISSEMENTS\, organisée par l’Investment Treaty Forum (ITF)\, à la British Academy\, Londres\, Royaume-Uni\, https://www.biicl.org/event/1299 \nPartagezTweetezPartagez0 Partages
URL:https://test.iisd.org/itn/fr/event/trigesima-conferencia-publica-de-itf-cumplimiento-en-el-derecho-internacional-de-las-inversiones/
END:VEVENT
END:VCALENDAR