BEGIN:VCALENDAR
VERSION:2.0
PRODID:-//Investment Treaty News - ECPv5.4.0.2//NONSGML v1.0//EN
CALSCALE:GREGORIAN
METHOD:PUBLISH
X-WR-CALNAME:Investment Treaty News
X-ORIGINAL-URL:https://test.iisd.org/itn/fr
X-WR-CALDESC:évènements pour Investment Treaty News
BEGIN:VTIMEZONE
TZID:America/Winnipeg
BEGIN:DAYLIGHT
TZOFFSETFROM:-0600
TZOFFSETTO:-0500
TZNAME:CDT
DTSTART:20170312T080000
END:DAYLIGHT
BEGIN:STANDARD
TZOFFSETFROM:-0500
TZOFFSETTO:-0600
TZNAME:CST
DTSTART:20171105T070000
END:STANDARD
END:VTIMEZONE
BEGIN:VEVENT
DTSTART;VALUE=DATE:20170612
DTEND;VALUE=DATE:20170615
DTSTAMP:20210316T070121
CREATED:20170616T135702Z
LAST-MODIFIED:20170626T163311Z
UID:4182-1497225600-1497484799@test.iisd.org
SUMMARY:Formation des médiateurs en matière de différends entre investisseurs et États
DESCRIPTION:Centre for Effective Dispute Resolution\, Centre international pour le règlement des différends relatifs aux investissements (CIRDI)\, International Mediation Institute (IMI) et Charte internationale de l’énergie (CIE)\, au CIRDI\, Washington\, D.C.\, États-Unis\, https://icsid.worldbank.org/fr/Pages/News.aspx?CID=216
URL:https://test.iisd.org/itn/fr/event/training-for-mediators-in-investor-state-disputes/
LOCATION:International Centre for Settlement of Investment Disputes (ICSID)\, 1818 H Street\, N.W. MSN J2-200\,  Washington\, D.C\, 20433\, United States
END:VEVENT
END:VCALENDAR