BEGIN:VCALENDAR
VERSION:2.0
PRODID:-//Investment Treaty News - ECPv5.4.0.2//NONSGML v1.0//EN
CALSCALE:GREGORIAN
METHOD:PUBLISH
X-WR-CALNAME:Investment Treaty News
X-ORIGINAL-URL:https://test.iisd.org/itn/fr
X-WR-CALDESC:évènements pour Investment Treaty News
BEGIN:VTIMEZONE
TZID:America/Winnipeg
BEGIN:DAYLIGHT
TZOFFSETFROM:-0600
TZOFFSETTO:-0500
TZNAME:CDT
DTSTART:20170312T080000
END:DAYLIGHT
BEGIN:STANDARD
TZOFFSETFROM:-0500
TZOFFSETTO:-0600
TZNAME:CST
DTSTART:20171105T070000
END:STANDARD
END:VTIMEZONE
BEGIN:VEVENT
DTSTART;VALUE=DATE:20170619
DTEND;VALUE=DATE:20170620
DTSTAMP:20210316T070045
CREATED:20170616T135701Z
LAST-MODIFIED:20170626T163412Z
UID:4189-1497830400-1497916799@test.iisd.org
SUMMARY:Un traité multilatéral sur l'investissement est-il nécessaire ?
DESCRIPTION:World Trade Institute\, Berne\, Suisse\, https://www.wti.org/outreach/events/589/investment-conference-is-a-multilateral-investment-treaty-needed
URL:https://test.iisd.org/itn/fr/event/investment-conference-is-a-multilateral-investment-treaty-needed/
LOCATION:World Trade Institute (WTI) of theUniversity of Bern\, Hallerstrasse 6 \, Bern\, 3012\, Switzerland
END:VEVENT
END:VCALENDAR