BEGIN:VCALENDAR
VERSION:2.0
PRODID:-//Investment Treaty News - ECPv5.4.0.2//NONSGML v1.0//EN
CALSCALE:GREGORIAN
METHOD:PUBLISH
X-WR-CALNAME:Investment Treaty News
X-ORIGINAL-URL:https://test.iisd.org/itn/fr
X-WR-CALDESC:évènements pour Investment Treaty News
BEGIN:VTIMEZONE
TZID:America/Winnipeg
BEGIN:DAYLIGHT
TZOFFSETFROM:-0600
TZOFFSETTO:-0500
TZNAME:CDT
DTSTART:20170312T080000
END:DAYLIGHT
BEGIN:STANDARD
TZOFFSETFROM:-0500
TZOFFSETTO:-0600
TZNAME:CST
DTSTART:20171105T070000
END:STANDARD
END:VTIMEZONE
BEGIN:VEVENT
DTSTART;VALUE=DATE:20170724
DTEND;VALUE=DATE:20170812
DTSTAMP:20210316T065710
CREATED:20170616T135700Z
LAST-MODIFIED:20170626T164211Z
UID:4211-1500854400-1502495999@test.iisd.org
SUMMARY:Cours régional sur les grands questions à l'ordre du jour économique international\, 37e cours (économies d'Amérique latine et des Caraïbes)
DESCRIPTION:CNUCED et ministère colombien des Affaires étrangères\, à l’Université EAFIT\, Medellín\, Colombie\, http://unctad.org/en/Pages/MeetingDetails.aspx?meetingid=1443
URL:https://test.iisd.org/itn/fr/event/regional-course-on-key-issues-on-the-international-economic-agenda/
LOCATION:EAFIT University\, Medellín
END:VEVENT
END:VCALENDAR