BEGIN:VCALENDAR
VERSION:2.0
PRODID:-//Investment Treaty News - ECPv5.4.0.2//NONSGML v1.0//EN
CALSCALE:GREGORIAN
METHOD:PUBLISH
X-WR-CALNAME:Investment Treaty News
X-ORIGINAL-URL:https://test.iisd.org/itn/fr
X-WR-CALDESC:évènements pour Investment Treaty News
BEGIN:VTIMEZONE
TZID:America/Winnipeg
BEGIN:DAYLIGHT
TZOFFSETFROM:-0600
TZOFFSETTO:-0500
TZNAME:CDT
DTSTART:20170312T080000
END:DAYLIGHT
BEGIN:STANDARD
TZOFFSETFROM:-0500
TZOFFSETTO:-0600
TZNAME:CST
DTSTART:20171105T070000
END:STANDARD
END:VTIMEZONE
BEGIN:VEVENT
DTSTART;VALUE=DATE:20170926
DTEND;VALUE=DATE:20170929
DTSTAMP:20210316T064705
CREATED:20170926T213152Z
LAST-MODIFIED:20170926T213152Z
UID:4590-1506384000-1506643199@test.iisd.org
SUMMARY:FORUM PUBLIC DE L’OMC 2017
DESCRIPTION:FORUM PUBLIC DE L’OMC 2017\, « Commerce : au-delà des gros\ntitres »\, Genève\, Suisse\, http://www.wto.org/pf17
URL:https://test.iisd.org/itn/fr/event/wto-public-forum-2017/
LOCATION:WTO\, Geneva\, Switzerland
END:VEVENT
END:VCALENDAR