BEGIN:VCALENDAR
VERSION:2.0
PRODID:-//Investment Treaty News - ECPv5.4.0.2//NONSGML v1.0//EN
CALSCALE:GREGORIAN
METHOD:PUBLISH
X-WR-CALNAME:Investment Treaty News
X-ORIGINAL-URL:https://test.iisd.org/itn/fr
X-WR-CALDESC:évènements pour Investment Treaty News
BEGIN:VTIMEZONE
TZID:America/Winnipeg
BEGIN:DAYLIGHT
TZOFFSETFROM:-0600
TZOFFSETTO:-0500
TZNAME:CDT
DTSTART:20170312T080000
END:DAYLIGHT
BEGIN:STANDARD
TZOFFSETFROM:-0500
TZOFFSETTO:-0600
TZNAME:CST
DTSTART:20171105T070000
END:STANDARD
END:VTIMEZONE
BEGIN:VEVENT
DTSTART;VALUE=DATE:20171009
DTEND;VALUE=DATE:20171012
DTSTAMP:20210316T064502
CREATED:20170926T213152Z
LAST-MODIFIED:20180108T191725Z
UID:4678-1507507200-1507766399@test.iisd.org
SUMMARY:CONFÉRENCE ANNUELLE DE L’IIA
DESCRIPTION:CONFÉRENCE ANNUELLE DE L’IIA\, « Phase 2 de la réforme de\nl’IIA »\, Genève\, Suisse\, http://investmentpolicyhub.unctad.org/Pages/unctad-an- nual-high-level-iia-conference-phase-2-of-iia-reform
URL:https://test.iisd.org/itn/fr/event/unctad-annual-high-level-iia-conference/
LOCATION:University of Geneva\, 40 Bd. du Pont d'Arve\, Geneva\, Switzerland
END:VEVENT
BEGIN:VEVENT
DTSTART;VALUE=DATE:20171010
DTEND;VALUE=DATE:20171014
DTSTAMP:20210316T064503
CREATED:20170926T213152Z
LAST-MODIFIED:20180108T191725Z
UID:4680-1507593600-1507939199@test.iisd.org
SUMMARY:FORUM PUBLIC DE LA SOCIÉTÉ CIVILE DE LA BANQUE MONDIALE
DESCRIPTION:FORUM PUBLIC DE LA SOCIÉTÉ CIVILE DE LA BANQUE MONDIALE\, Réunions annuelles du Groupe de la Banque mondiale et du Fonds monétaire international (FMI)\, Washington D.C.\, États-Unis\, http://www. worldbank.org/en/events/2017/10/13/civil-society-policy-forum
URL:https://test.iisd.org/itn/fr/event/world-bank-civil-society-public-forum/
LOCATION:http://www.worldbank.org/en/events/2017/10/13/civil-society-policy-forum\, Washington D.C.\, United States
END:VEVENT
END:VCALENDAR