BEGIN:VCALENDAR
VERSION:2.0
PRODID:-//Investment Treaty News - ECPv5.4.0.2//NONSGML v1.0//EN
CALSCALE:GREGORIAN
METHOD:PUBLISH
X-WR-CALNAME:Investment Treaty News
X-ORIGINAL-URL:https://test.iisd.org/itn/fr
X-WR-CALDESC:évènements pour Investment Treaty News
BEGIN:VTIMEZONE
TZID:America/Winnipeg
BEGIN:DAYLIGHT
TZOFFSETFROM:-0600
TZOFFSETTO:-0500
TZNAME:CDT
DTSTART:20170312T080000
END:DAYLIGHT
BEGIN:STANDARD
TZOFFSETFROM:-0500
TZOFFSETTO:-0600
TZNAME:CST
DTSTART:20171105T070000
END:STANDARD
END:VTIMEZONE
BEGIN:VEVENT
DTSTART;VALUE=DATE:20171023
DTEND;VALUE=DATE:20171028
DTSTAMP:20210316T064219
CREATED:20170926T213152Z
LAST-MODIFIED:20180108T191725Z
UID:4688-1508716800-1509148799@test.iisd.org
SUMMARY:3e SESSION DU GROUPE DE TRAVAIL INTERGOUVERNEMENTAL À COMPOSITION NON LIMITÉE SUR LES SOCIÉTÉS TRANSNATIO- NALES ET AUTRES ENTREPRISES EN MATIERE DE PROTECTION DES DROITS DE L’HOMME
DESCRIPTION:3e SESSION DU GROUPE DE TRAVAIL INTERGOUVERNEMENTAL\n À COMPOSITION NON LIMITÉE SUR LES SOCIÉTÉS TRANSNATIO- NALES ET AUTRES ENTREPRISES EN MATIERE DE PROTECTION DES DROITS DE L’HOMME\, Conseil des droits de l’homme de l’ONU\, Genève\, Suisse\, http://www.ohchr.org/EN/HRBodies/HRC/WGTransCorp/Session3/ Pages/Session3.aspx
URL:https://test.iisd.org/itn/fr/event/3rd-session-of-the-open-ended-intergovernmental-working-group-on-transnational-corporations-and-other-business-enterprises-with-respect-to-human-rights/
LOCATION:UN Human Rights Council\, Geneva\, Switzerland
END:VEVENT
BEGIN:VEVENT
DTSTART;VALUE=DATE:20171024
DTEND;VALUE=DATE:20171026
DTSTAMP:20210316T064219
CREATED:20170926T213152Z
LAST-MODIFIED:20180108T191725Z
UID:4693-1508803200-1508975999@test.iisd.org
SUMMARY:CONFÉRENCE RÉGIONALE « Politiques internationales d’investissement : La voie à suivre »
DESCRIPTION:CONFÉRENCE RÉGIONALE « Politiques internationales d’investissement : La voie à suivre »\, CNUCED\, République d’Azerbaïdjan\, Charte internationale de l’énergie\, Centre de recherche en droit économique transnational (Université Martin Luther Halle-Wittenberg)\, Bakou\, Azerbaïdjan\, http://ipcbaku.com
URL:https://test.iisd.org/itn/fr/event/regional-conference-international-investment-policies-the-way-forward/
END:VEVENT
END:VCALENDAR