BEGIN:VCALENDAR
VERSION:2.0
PRODID:-//Investment Treaty News - ECPv5.4.0.2//NONSGML v1.0//EN
CALSCALE:GREGORIAN
METHOD:PUBLISH
X-WR-CALNAME:Investment Treaty News
X-ORIGINAL-URL:https://test.iisd.org/itn/fr
X-WR-CALDESC:évènements pour Investment Treaty News
BEGIN:VTIMEZONE
TZID:America/Winnipeg
BEGIN:DAYLIGHT
TZOFFSETFROM:-0600
TZOFFSETTO:-0500
TZNAME:CDT
DTSTART:20170312T080000
END:DAYLIGHT
BEGIN:STANDARD
TZOFFSETFROM:-0500
TZOFFSETTO:-0600
TZNAME:CST
DTSTART:20171105T070000
END:STANDARD
END:VTIMEZONE
BEGIN:VEVENT
DTSTART;VALUE=DATE:20171102
DTEND;VALUE=DATE:20171103
DTSTAMP:20210316T064055
CREATED:20170926T213152Z
LAST-MODIFIED:20180108T191725Z
UID:4696-1509580800-1509667199@test.iisd.org
SUMMARY:CONFÉRENCE INTERNATIONALE « Courants mondiaux en droit inter- national de l’investissement »
DESCRIPTION:CONFÉRENCE INTERNATIONALE « Courants mondiaux en droit inter- national de l’investissement »\, Centre de droit international (Université nationale de Singapour)\, Singapour\, https://cil.nus.edu.sg/siaa-2017-confe- rence-global-currents-in-international-investment-law
URL:https://test.iisd.org/itn/fr/event/international-conference-global-currents-in-international-investment-law/
LOCATION:National University of Singapore\, Sinapore\, Singapore
END:VEVENT
END:VCALENDAR