BEGIN:VCALENDAR
VERSION:2.0
PRODID:-//Investment Treaty News - ECPv5.4.0.2//NONSGML v1.0//EN
CALSCALE:GREGORIAN
METHOD:PUBLISH
X-WR-CALNAME:Investment Treaty News
X-ORIGINAL-URL:https://test.iisd.org/itn/fr
X-WR-CALDESC:évènements pour Investment Treaty News
BEGIN:VTIMEZONE
TZID:America/Winnipeg
BEGIN:DAYLIGHT
TZOFFSETFROM:-0600
TZOFFSETTO:-0500
TZNAME:CDT
DTSTART:20170312T080000
END:DAYLIGHT
BEGIN:STANDARD
TZOFFSETFROM:-0500
TZOFFSETTO:-0600
TZNAME:CST
DTSTART:20171105T070000
END:STANDARD
END:VTIMEZONE
BEGIN:VEVENT
DTSTART;VALUE=DATE:20171127
DTEND;VALUE=DATE:20171202
DTSTAMP:20210316T063614
CREATED:20170926T213151Z
LAST-MODIFIED:20180108T191724Z
UID:4704-1511740800-1512172799@test.iisd.org
SUMMARY:34e SESSION DU GROUPE DE TRAVAIL III DE LA CNUDCI
DESCRIPTION:34e SESSION DU GROUPE DE TRAVAIL III DE LA CNUDCI\, « Ré- forme du règlement des différends entre investisseurs et États »\, Commission des Nations Unies pour le droit commercial international\, Vienne\, Autriche\, http://www.uncitral.org/uncitral/fr/commission/working_ groups/3Investor_State.html
URL:https://test.iisd.org/itn/fr/event/34th-session-of-uncitral-working-group-iii/
LOCATION:United Nations Commission on International Trade Law\, Vienna\, Austria
END:VEVENT
BEGIN:VEVENT
DTSTART;VALUE=DATE:20171127
DTEND;VALUE=DATE:20171130
DTSTAMP:20210316T063614
CREATED:20170926T213151Z
LAST-MODIFIED:20180108T191724Z
UID:4713-1511740800-1511999999@test.iisd.org
SUMMARY:FORUM DE L’ONU SUR L’ENTREPRISE ET LES DROITS DE L’HOMME DE 2017
DESCRIPTION:FORUM DE L’ONU SUR L’ENTREPRISE ET LES DROITS DE L’HOMME DE 2017\, « Ouvrir l’accès aux recours effectifs »\, Haut-Commissariat des Nations Unies aux droits de l’homme (HCDH)\, Genève\, Suisse\, http://www. ohchr.org/FR/Issues/Business/Forum/Pages/2017ForumBHR.aspx
URL:https://test.iisd.org/itn/fr/event/2017-un-forum-on-business-and-human-rights/
LOCATION:UN High Commissioner for Human Rights (OHCHR)\, Geneva\, Switzerland
END:VEVENT
END:VCALENDAR