BEGIN:VCALENDAR
VERSION:2.0
PRODID:-//Investment Treaty News - ECPv5.4.0.2//NONSGML v1.0//EN
CALSCALE:GREGORIAN
METHOD:PUBLISH
X-WR-CALNAME:Investment Treaty News
X-ORIGINAL-URL:https://test.iisd.org/itn/fr
X-WR-CALDESC:évènements pour Investment Treaty News
BEGIN:VTIMEZONE
TZID:America/Winnipeg
BEGIN:DAYLIGHT
TZOFFSETFROM:-0600
TZOFFSETTO:-0500
TZNAME:CDT
DTSTART:20180311T080000
END:DAYLIGHT
BEGIN:STANDARD
TZOFFSETFROM:-0500
TZOFFSETTO:-0600
TZNAME:CST
DTSTART:20181104T070000
END:STANDARD
END:VTIMEZONE
BEGIN:VEVENT
DTSTART;VALUE=DATE:20180312
DTEND;VALUE=DATE:20180313
DTSTAMP:20210316T055705
CREATED:20180108T191724Z
LAST-MODIFIED:20181221T164830Z
UID:4977-1520812800-1520899199@test.iisd.org
SUMMARY:Conférence Internationale : Coûts dans L’arbitrage en Matière D’investissement : Problèmes et Embûches
DESCRIPTION:CONFÉRENCE INTERNATIONALE : COÛTS DANS L’ARBITRAGE EN MATIÈRE D’INVESTISSEMENT : PROBLÈMES ET EMBÛCHES\, McDermott Will & Emery\, Institut d’arbitrage de la CCS & Université Goethe de Frankfurt am Main\, Université Goethe\, Frankfurt\, Allemagne\, http://www.sccinstitute.com/media/228441/frankfurt-seminar-12-march.pdf
URL:https://test.iisd.org/itn/fr/event/international-conference-costs-in-investment-arbitration-issues-and-pitfalls/
LOCATION:Goethe University\, Frankfurt\, Germany
END:VEVENT
END:VCALENDAR