BEGIN:VCALENDAR
VERSION:2.0
PRODID:-//Investment Treaty News - ECPv5.4.0.2//NONSGML v1.0//EN
CALSCALE:GREGORIAN
METHOD:PUBLISH
X-WR-CALNAME:Investment Treaty News
X-ORIGINAL-URL:https://test.iisd.org/itn/fr
X-WR-CALDESC:évènements pour Investment Treaty News
BEGIN:VTIMEZONE
TZID:America/Winnipeg
BEGIN:DAYLIGHT
TZOFFSETFROM:-0600
TZOFFSETTO:-0500
TZNAME:CDT
DTSTART:20180311T080000
END:DAYLIGHT
BEGIN:STANDARD
TZOFFSETFROM:-0500
TZOFFSETTO:-0600
TZNAME:CST
DTSTART:20181104T070000
END:STANDARD
END:VTIMEZONE
BEGIN:VEVENT
DTSTART;VALUE=DATE:20180503
DTEND;VALUE=DATE:20180505
DTSTAMP:20210316T052055
CREATED:20180426T145328Z
LAST-MODIFIED:20181221T164829Z
UID:5131-1525305600-1525478399@test.iisd.org
SUMMARY:1ère CONFÉRENCE CONJOINTE ITA–ALARB SUR L’ARBITRAGE INTERNATIONAL : L’ARBITRAGE DES DIFFÉRENDS LIÉS AUX RESSOURCES NATURELLES
DESCRIPTION:1ère CONFÉRENCE CONJOINTE ITA–ALARB SUR L’ARBITRAGE INTERNATIONAL : L’ARBITRAGE DES DIFFÉRENDS LIÉS AUX RESSOURCES NATURELLES\, organisée par l’Institut pour l’arbitrage transnational (ITA) et l’Association latinoaméricaine d’arbitrage (ALARB)\, à l’hôtel Ritz-Carlton\, Santiago\, Chili\, https://icsid.worldbank.org/en/Documents/1st%20ITA-ALARB%20Joint%20Conference%20Brochure%20english.pdf
URL:https://test.iisd.org/itn/fr/event/1st-ita-alarb-joint-conference-on-international-arbitration-arbitrating-disputes-in-natural-resources/
END:VEVENT
END:VCALENDAR