BEGIN:VCALENDAR
VERSION:2.0
PRODID:-//Investment Treaty News - ECPv5.4.0.2//NONSGML v1.0//EN
CALSCALE:GREGORIAN
METHOD:PUBLISH
X-WR-CALNAME:Investment Treaty News
X-ORIGINAL-URL:https://test.iisd.org/itn/fr
X-WR-CALDESC:évènements pour Investment Treaty News
BEGIN:VTIMEZONE
TZID:America/Winnipeg
BEGIN:DAYLIGHT
TZOFFSETFROM:-0600
TZOFFSETTO:-0500
TZNAME:CDT
DTSTART:20180311T080000
END:DAYLIGHT
BEGIN:STANDARD
TZOFFSETFROM:-0500
TZOFFSETTO:-0600
TZNAME:CST
DTSTART:20181104T070000
END:STANDARD
END:VTIMEZONE
BEGIN:VEVENT
DTSTART;VALUE=DATE:20180510
DTEND;VALUE=DATE:20180512
DTSTAMP:20210316T051156
CREATED:20180426T145327Z
LAST-MODIFIED:20181221T164829Z
UID:5147-1525910400-1526083199@test.iisd.org
SUMMARY:CONFÉRENCE 2018 SUR L’ARBITRAGE DES INVESTISSEMENTS ET LES TRANSACTIONS TRANS-PACIFIQUES
DESCRIPTION:CONFÉRENCE 2018 SUR L’ARBITRAGE DES INVESTISSEMENTS ET LES TRANSACTIONS TRANS-PACIFIQUES\, organisée par l’Association américaine du barreau (ABA) Section dur doit international\, à Maxwell Chambers\, Singapour\, https://shop.americanbar.org/PersonifyImages/ProductFiles/296454598/Preliminary%20Brochure%20Singapore.pdf
URL:https://test.iisd.org/itn/fr/event/2018-investment-arbitration-trans-pacific-transactions-conference/
END:VEVENT
BEGIN:VEVENT
DTSTART;VALUE=DATE:20180510
DTEND;VALUE=DATE:20180512
DTSTAMP:20210316T051157
CREATED:20180426T145329Z
LAST-MODIFIED:20181221T164829Z
UID:5150-1525910400-1526083199@test.iisd.org
SUMMARY:CONFÉRENCE : LE DROIT INTERNATIONAL DES INVESTISSEMENTS ET LA PRÉVENTION DES MALADIES NON-TRANSMISSIBLES
DESCRIPTION:CONFÉRENCE : LE DROIT INTERNATIONAL DES INVESTISSEMENTS ET LA PRÉVENTION DES MALADIES NON-TRANSMISSIBLES\, organisée par l’Unité de droit et MNT\, Faculté de droit et de justice sociale\, Université de Liverpool\, au Campus de Londres de l’Université de Liverpool\, Londres\, Royaume-Uni\, https://www.liverpool.ac.uk/law-and-social-justice/events/international-investment-law-and-ncd-prevention
URL:https://test.iisd.org/itn/fr/event/conference-international-investment-law-and-non-communicable-diseases-prevention/
LOCATION:Law & NCD Unit\, School of Law and Social Justice\, University of Liverpool\, University of Liverpool London Campus\, 33 Finsbury Square\, London\, United Kingdom
END:VEVENT
BEGIN:VEVENT
DTSTART;VALUE=DATE:20180511
DTEND;VALUE=DATE:20180512
DTSTAMP:20210316T051157
CREATED:20180426T145328Z
LAST-MODIFIED:20181221T164829Z
UID:5145-1525996800-1526083199@test.iisd.org
SUMMARY:CONFÉRENCE : PRINCIPAUX PRIOBLÈMES DANS L’ARBITRAGE INTERNATIONAL : PLAIDOYER\, CALCUL DES DOMMAGES\, RÈGLEMENT ET CYBERSÉCURITÉ
DESCRIPTION:CONFÉRENCE : PRINCIPAUX PRIOBLÈMES DANS L’ARBITRAGE INTERNATIONAL : PLAIDOYER\, CALCUL DES DOMMAGES\, RÈGLEMENT ET CYBERSÉCURITÉ\, organisée par le Centre international pour le règlement des différends relatifs aux investissement (CIRDI)\, l’Arbitration Institute de la Chambre de commerce de Stockholm (CCS)\, le Secrétariat de la Charte de l’énergie (SCE) et la Cour permanente d’arbitrage (CPA)\, au Centre de conférence de la Banque mondiale\, Paris\, France\, https://icsid.worldbank.org/en/Pages/Events.aspx?CID=165
URL:https://test.iisd.org/itn/fr/event/conference-key-issues-in-international-arbitration-advocacy-damage-calculation-settlement-and-cybersecurity/
END:VEVENT
BEGIN:VEVENT
DTSTART;TZID=America/Winnipeg:20180511T090000
DTEND;TZID=America/Winnipeg:20180511T170000
DTSTAMP:20210316T051157
CREATED:20180426T145327Z
LAST-MODIFIED:20181221T164829Z
UID:5137-1526029200-1526058000@test.iisd.org
SUMMARY:TRENTIÈME CONFÉRENCE PUBLIQUE DE L’ITF : L’EXÉCUTION DANS LE DROIT INTERNATIONAL DES INVESTISSEMENTS
DESCRIPTION:TRENTIÈME CONFÉRENCE PUBLIQUE DE L’ITF : L’EXÉCUTION DANS LE DROIT INTERNATIONAL DES INVESTISSEMENTS\, organisée par l’Investment Treaty Forum (ITF)\, à la British Academy\, Londres\, Royaume-Uni\, https://www.biicl.org/event/1299
URL:https://test.iisd.org/itn/fr/event/trigesima-conferencia-publica-de-itf-cumplimiento-en-el-derecho-internacional-de-las-inversiones/
END:VEVENT
END:VCALENDAR