BEGIN:VCALENDAR
VERSION:2.0
PRODID:-//Investment Treaty News - ECPv5.4.0.2//NONSGML v1.0//EN
CALSCALE:GREGORIAN
METHOD:PUBLISH
X-WR-CALNAME:Investment Treaty News
X-ORIGINAL-URL:https://test.iisd.org/itn/fr
X-WR-CALDESC:évènements pour Investment Treaty News
BEGIN:VTIMEZONE
TZID:America/Winnipeg
BEGIN:DAYLIGHT
TZOFFSETFROM:-0600
TZOFFSETTO:-0500
TZNAME:CDT
DTSTART:20180311T080000
END:DAYLIGHT
BEGIN:STANDARD
TZOFFSETFROM:-0500
TZOFFSETTO:-0600
TZNAME:CST
DTSTART:20181104T070000
END:STANDARD
END:VTIMEZONE
BEGIN:VEVENT
DTSTART;VALUE=DATE:20180604
DTEND;VALUE=DATE:20180616
DTSTAMP:20210316T053400
CREATED:20180426T145328Z
LAST-MODIFIED:20181221T164829Z
UID:5161-1528070400-1529107199@test.iisd.org
SUMMARY:FORMATION EXÉCUTIVE SUR LES INDUSTRIES EXTRACTIVES ET LE DÉVELOPPEMENT DURABLE
DESCRIPTION:FORMATION EXÉCUTIVE SUR LES INDUSTRIES EXTRACTIVES ET LE DÉVELOPPEMENT DURABLE\, organisée par le Columbia Center on Sustainable Investment (CCSI)\, à l’Université de Columbia\, New York\, États-Unis\, http://ccsi.columbia.edu/2018/06/04/executive-training-program-on-extractive-industries-and-sustainable-development-3
URL:https://test.iisd.org/itn/fr/event/executive-training-on-extractive-industries-and-sustainable-development/
LOCATION:Columbia University\, 116th St & Broadway\, New York\, NY\, 10027\, United States
END:VEVENT
END:VCALENDAR