BEGIN:VCALENDAR
VERSION:2.0
PRODID:-//Investment Treaty News - ECPv5.4.0.2//NONSGML v1.0//EN
CALSCALE:GREGORIAN
METHOD:PUBLISH
X-WR-CALNAME:Investment Treaty News
X-ORIGINAL-URL:https://test.iisd.org/itn/fr
X-WR-CALDESC:évènements pour Investment Treaty News
BEGIN:VTIMEZONE
TZID:America/Winnipeg
BEGIN:DAYLIGHT
TZOFFSETFROM:-0600
TZOFFSETTO:-0500
TZNAME:CDT
DTSTART:20180311T080000
END:DAYLIGHT
BEGIN:STANDARD
TZOFFSETFROM:-0500
TZOFFSETTO:-0600
TZNAME:CST
DTSTART:20181104T070000
END:STANDARD
END:VTIMEZONE
BEGIN:VEVENT
DTSTART;VALUE=DATE:20180924
DTEND;VALUE=DATE:20180925
DTSTAMP:20210316T052817
CREATED:20181221T164829Z
LAST-MODIFIED:20181221T164829Z
UID:5440-1537747200-1537833599@test.iisd.org
SUMMARY:L’ÉNERGIE RENOUVELABLE ET LES ODD : EXAMINER LES LIENS AVEC LES INDUSTRIES EXTRACTIVES\, L’AGRICULTURE\, ET L’USAGE DES TERRES
DESCRIPTION:L’ÉNERGIE RENOUVELABLE ET LES ODD : EXAMINER LES LIENS AVEC LES INDUSTRIES EXTRACTIVES\, L’AGRICULTURE\, ET L’USAGE DES TERRES\, UN Sustainable Development Solutions Network’s Thematic Network on Good Governance of Extractive and Land Resources (SDSN Thematic Network)\, Columbia Center on Sustainable Investment (CCSI) & ses partenaires\, à l’Université de Columbia\, New York\, États-Unis\, http://ccsi.columbia.edu/2018/09/24/renewable-energy-and-the-sdgs-exploring-links-with-extractives-agriculture-and-land-use
URL:https://test.iisd.org/itn/fr/event/renewable-energy-and-the-sdgs-exploring-links-with-extractives-agriculture-and-land-use/
LOCATION:Philanthropy New York\, 1500 Broadway\, New York\, NY\, 10036\, United States
END:VEVENT
END:VCALENDAR