BEGIN:VCALENDAR
VERSION:2.0
PRODID:-//Investment Treaty News - ECPv5.4.0.2//NONSGML v1.0//EN
CALSCALE:GREGORIAN
METHOD:PUBLISH
X-WR-CALNAME:Investment Treaty News
X-ORIGINAL-URL:https://test.iisd.org/itn/fr
X-WR-CALDESC:évènements pour Investment Treaty News
BEGIN:VTIMEZONE
TZID:America/Winnipeg
BEGIN:DAYLIGHT
TZOFFSETFROM:-0600
TZOFFSETTO:-0500
TZNAME:CDT
DTSTART:20180311T080000
END:DAYLIGHT
BEGIN:STANDARD
TZOFFSETFROM:-0500
TZOFFSETTO:-0600
TZNAME:CST
DTSTART:20181104T070000
END:STANDARD
END:VTIMEZONE
BEGIN:VEVENT
DTSTART;TZID=America/Winnipeg:20181011T121000
DTEND;TZID=America/Winnipeg:20181115T130000
DTSTAMP:20210316T051929
CREATED:20181221T164804Z
LAST-MODIFIED:20181221T164804Z
UID:5671-1539259800-1542286800@test.iisd.org
SUMMARY:SÉRIE D’INTERVENTIONS SUR LE DROIT ET LA POLITIQUE INTERNATIONAUX DES INVESTISSEMENTS\, AUTOMNE 2018
DESCRIPTION:SÉRIE D’INTERVENTIONS SUR LE DROIT ET LA POLITIQUE INTERNATIONAUX DES INVESTISSEMENTS\, AUTOMNE 2018\, Centre Columbia sur l’investissement durable (CCSI)\, à la Faculté de droit de Columbia\, New York\, États-Unis\, http://ccsi.columbia.edu/2018/10/11/fall-2018-international-investment-law-and-policy-speaker-series
URL:https://test.iisd.org/itn/fr/event/fall-2018-international-investment-law-and-policy-speaker-series/
END:VEVENT
BEGIN:VEVENT
DTSTART;VALUE=DATE:20181106
DTEND;VALUE=DATE:20181108
DTSTAMP:20210316T051929
CREATED:20181221T164802Z
LAST-MODIFIED:20181221T164802Z
UID:5695-1541462400-1541635199@test.iisd.org
SUMMARY:NOUVELLES FRONTIÈRES DES MÉCANISMES ALTERNATIFS DE RÈGLEMENT DES DIFFÉRENDS (ARD) : DES QUESTIONS COMMERCIALES ET D’INVESTISSEMENT AUX VIOLATIONS RÉGLEMENTAIRES
DESCRIPTION:NOUVELLES FRONTIÈRES DES MÉCANISMES ALTERNATIFS DE RÈGLEMENT DES DIFFÉRENDS (ARD) : DES QUESTIONS COMMERCIALES ET D’INVESTISSEMENT AUX VIOLATIONS RÉGLEMENTAIRES\, Comité de médiation de l’Association internationale du barreau (IBA)\, IBA North America Forum\, Université McGill\, Université de Montréal & Chambre internationale du commerce (CIC)\, à McGill Faculty Club and Conference Centre\, Montréal\, Canada\, https://www.ibanet.org/Conferences/conf904.aspx
URL:https://test.iisd.org/itn/fr/event/new-frontiers-of-alternative-dispute-resolution-adr-from-commercial-and-investment-matters-to-regulatory-violations/
END:VEVENT
END:VCALENDAR