BEGIN:VCALENDAR
VERSION:2.0
PRODID:-//Investment Treaty News - ECPv5.4.0.2//NONSGML v1.0//EN
CALSCALE:GREGORIAN
METHOD:PUBLISH
X-WR-CALNAME:Investment Treaty News
X-ORIGINAL-URL:https://test.iisd.org/itn/fr
X-WR-CALDESC:évènements pour Investment Treaty News
BEGIN:VTIMEZONE
TZID:America/Winnipeg
BEGIN:DAYLIGHT
TZOFFSETFROM:-0600
TZOFFSETTO:-0500
TZNAME:CDT
DTSTART:20190310T080000
END:DAYLIGHT
BEGIN:STANDARD
TZOFFSETFROM:-0500
TZOFFSETTO:-0600
TZNAME:CST
DTSTART:20191103T070000
END:STANDARD
END:VTIMEZONE
BEGIN:VEVENT
DTSTART;VALUE=DATE:20190516
DTEND;VALUE=DATE:20190517
DTSTAMP:20210316T062123
CREATED:20190627T152841Z
LAST-MODIFIED:20190627T152841Z
UID:6208-1557964800-1558051199@test.iisd.org
SUMMARY:CONFÉRENCE POUR LE 10ème ANNIVERSAIRE DU CENTRE DE COLOGNE POUR LE DROIT INTERNATIONAL DE L’INVESTISSEMENT (IILCC) : « Évolution\, évaluation et développements futurs du droit international de l’investissement »
DESCRIPTION:CONFÉRENCE POUR LE 10ème ANNIVERSAIRE DU CENTRE DE COLOGNE POUR LE DROIT INTERNATIONAL DE L’INVESTISSEMENT (IILCC) : « Évolution\, évaluation et développements futurs du droit international de l’investissement »\, à la Chambre de commerce et d’industrie de Cologne (IHK)\, Cologne\, Allemagne\, http://www.iilcc.com
URL:https://test.iisd.org/itn/fr/event/10th-anniversary-conference-of-the-international-investment-law-centre-cologne-iilcc-evolution-evaluation-and-future-developments-in-international-investment-law/
LOCATION:IHK\, Unter Sachsenhausen 10-26\, Köln\, 50667\, Germany
END:VEVENT
BEGIN:VEVENT
DTSTART;VALUE=DATE:20190516
DTEND;VALUE=DATE:20190517
DTSTAMP:20210316T062124
CREATED:20190627T152841Z
LAST-MODIFIED:20190627T152841Z
UID:6211-1557964800-1558051199@test.iisd.org
SUMMARY:SÉMINAIRE « UNE SOCIÉTÉ FAIBLE EN CARBONE GRÂCE AU DROIT INTERNATIONAL »
DESCRIPTION:SÉMINAIRE « UNE SOCIÉTÉ FAIBLE EN CARBONE GRÂCE AU DROIT INTERNATIONAL »\, Institut d’arbitrage de la CCS & Haga Initiative\, à la CCS\, Stockholm\, Suède\, https://sccinstitute.com/about-the-scc/event-calendar/save-the-date-a-low-carbon-society-through-international-law
URL:https://test.iisd.org/itn/fr/event/seminar-a-low-carbon-society-through-international-law/
LOCATION:Arbitration Institute of the SCC & Haga Initiative\, Brunnsgatan 2\, 111 38\, Stockholm\, Sweden
END:VEVENT
END:VCALENDAR