BEGIN:VCALENDAR
VERSION:2.0
PRODID:-//Investment Treaty News - ECPv5.4.0.2//NONSGML v1.0//EN
CALSCALE:GREGORIAN
METHOD:PUBLISH
X-WR-CALNAME:Investment Treaty News
X-ORIGINAL-URL:https://test.iisd.org/itn/fr
X-WR-CALDESC:évènements pour Investment Treaty News
BEGIN:VTIMEZONE
TZID:America/Winnipeg
BEGIN:DAYLIGHT
TZOFFSETFROM:-0600
TZOFFSETTO:-0500
TZNAME:CDT
DTSTART:20190310T080000
END:DAYLIGHT
BEGIN:STANDARD
TZOFFSETFROM:-0500
TZOFFSETTO:-0600
TZNAME:CST
DTSTART:20191103T070000
END:STANDARD
END:VTIMEZONE
BEGIN:VEVENT
DTSTART;VALUE=DATE:20190617
DTEND;VALUE=DATE:20190628
DTSTAMP:20210316T060801
CREATED:20190627T152840Z
LAST-MODIFIED:20190627T152840Z
UID:6228-1560729600-1561679999@test.iisd.org
SUMMARY:FORMATION DE HAUT-NIVEAU SUR LES TRAITÉS D’INVESTISSEMENT ET L’ARBITRAGE\, À L’INTENTION DES REPRÉSENTANTS GOUVERNEMENTAUX
DESCRIPTION:FORMATION DE HAUT-NIVEAU SUR LES TRAITÉS D’INVESTISSEMENT ET L’ARBITRAGE\, À L’INTENTION DES REPRÉSENTANTS GOUVERNEMENTAUX\, Columbia Center on Sustainable Investment (CCSI)\, à l’Université de Columbia\, New York\, États-Unis\, http://ccsi.columbia.edu/2019/06/17/executive-training-on-investment-treaties-and-arbitration-for-government-officials-2
URL:https://test.iisd.org/itn/fr/event/executive-training-on-investment-treaties-and-arbitration-for-government-officials-3/
LOCATION:Columbia University\, 116th St & Broadway\, New York\, NY\, 10027\, United States
END:VEVENT
END:VCALENDAR