BEGIN:VCALENDAR
VERSION:2.0
PRODID:-//Investment Treaty News - ECPv5.4.0.2//NONSGML v1.0//EN
CALSCALE:GREGORIAN
METHOD:PUBLISH
X-WR-CALNAME:Investment Treaty News
X-ORIGINAL-URL:https://test.iisd.org/itn/fr
X-WR-CALDESC:évènements pour Investment Treaty News
BEGIN:VTIMEZONE
TZID:America/Winnipeg
BEGIN:DAYLIGHT
TZOFFSETFROM:-0600
TZOFFSETTO:-0500
TZNAME:CDT
DTSTART:20190310T080000
END:DAYLIGHT
BEGIN:STANDARD
TZOFFSETFROM:-0500
TZOFFSETTO:-0600
TZNAME:CST
DTSTART:20191103T070000
END:STANDARD
END:VTIMEZONE
BEGIN:VEVENT
DTSTART;VALUE=DATE:20190925
DTEND;VALUE=DATE:20190927
DTSTAMP:20210316T045141
CREATED:20190627T152840Z
LAST-MODIFIED:20190919T031910Z
UID:6487-1569369600-1569542399@test.iisd.org
SUMMARY:3ème RÉUNION RÉGIONALE INTERSESSIONS DU GROUPE DE TRAVAIL III DE LA CNUDCI SUR LA RÉFORME DU RDIE
DESCRIPTION:3ème RÉUNION RÉGIONALE INTERSESSIONS DU GROUPE DE TRAVAIL III DE LA CNUDCI SUR LA RÉFORME DU RDIE\, à Conakry\, Guinée\, https://uncitral.un.org/en/events/25-26.9.2019
URL:https://test.iisd.org/itn/fr/event/3rd-uncitral-working-group-iii-inter-sessional-regional-meeting-on-isds-reform/
LOCATION:Conakry\, Guinea\, Conakry\, Guinea\, Conakry\, Guinea
END:VEVENT
BEGIN:VEVENT
DTSTART;VALUE=DATE:20190925
DTEND;VALUE=DATE:20190927
DTSTAMP:20210316T045142
CREATED:20190919T031910Z
LAST-MODIFIED:20190919T031910Z
UID:6785-1569369600-1569542399@test.iisd.org
SUMMARY:3ème RÉUNION RÉGIONALE INTERSESSIONS DU GROUPE DE TRAVAIL III DE LA CNUDCI SUR LA RÉFORME DU RDIE
DESCRIPTION:3ème RÉUNION RÉGIONALE INTERSESSIONS DU GROUPE DE TRAVAIL III DE LA CNUDCI SUR LA RÉFORME DU RDIE\, à Conakry\, Guinée\, https://uncitral.un.org/fr/events/25-26.9.2019
URL:https://test.iisd.org/itn/fr/event/3rd-uncitral-working-group-iii-inter-sessional-regional-meeting-on-isds-reform-2/
LOCATION:Primus Hotel Kaloum\, Avenue de la République\, Almamya\, Conakry\, Guinea
END:VEVENT
BEGIN:VEVENT
DTSTART;VALUE=DATE:20190926
DTEND;VALUE=DATE:20190928
DTSTAMP:20210316T045142
CREATED:20190627T152840Z
LAST-MODIFIED:20190919T031910Z
UID:6490-1569456000-1569628799@test.iisd.org
SUMMARY:COLLOQUE « LES ACTEURS DU DROIT INTERNATIONAL DE L’INVESTISSEMENT : AU-DELÀ DES DEMANDEURS\, DES DÉFENDEURS ET DES ARBITRES »
DESCRIPTION:COLLOQUE « LES ACTEURS DU DROIT INTERNATIONAL DE L’INVESTISSEMENT : AU-DELÀ DES DEMANDEURS\, DES DÉFENDEURS ET DES ARBITRES »\, à l’Université Paris II Panthéon-Assas\, à Paris\, France\, https://www.transnational-dispute-management.com/news/20190926.pdf
URL:https://test.iisd.org/itn/fr/event/colloquium-actors-in-international-investment-law-beyond-claimants-respondents-and-arbitrators/
LOCATION:University Paris II Panthéon-Assas\, 75006 Paris\, Paris\, France
END:VEVENT
BEGIN:VEVENT
DTSTART;VALUE=DATE:20190926
DTEND;VALUE=DATE:20190928
DTSTAMP:20210316T045142
CREATED:20190919T031909Z
LAST-MODIFIED:20190919T031909Z
UID:6791-1569456000-1569628799@test.iisd.org
SUMMARY:COLLOQUE « LES ACTEURS DU DROIT INTERNATIONAL DE L’INVESTISSEMENT : AU-DELÀ DES DEMANDEURS\, DES DÉFENDEURS ET DES ARBITRES »
DESCRIPTION:COLLOQUE « LES ACTEURS DU DROIT INTERNATIONAL DE L’INVESTISSEMENT : AU-DELÀ DES DEMANDEURS\, DES DÉFENDEURS ET DES ARBITRES »\, à l’Université Paris II Panthéon-Assas\, à Paris\, France\, https://www.transnational-dispute-management.com/news/20190926.pdf
URL:https://test.iisd.org/itn/fr/event/colloquium-actors-in-international-investment-law-beyond-claimants-respondents-and-arbitrators-2/
LOCATION:University Paris II Panthéon-Assas\, 75006 Paris\, Paris\, France
END:VEVENT
END:VCALENDAR