BEGIN:VCALENDAR
VERSION:2.0
PRODID:-//Investment Treaty News - ECPv5.4.0.2//NONSGML v1.0//EN
CALSCALE:GREGORIAN
METHOD:PUBLISH
X-WR-CALNAME:Investment Treaty News
X-ORIGINAL-URL:https://test.iisd.org/itn/fr
X-WR-CALDESC:évènements pour Investment Treaty News
BEGIN:VTIMEZONE
TZID:America/Winnipeg
BEGIN:DAYLIGHT
TZOFFSETFROM:-0600
TZOFFSETTO:-0500
TZNAME:CDT
DTSTART:20190310T080000
END:DAYLIGHT
BEGIN:STANDARD
TZOFFSETFROM:-0500
TZOFFSETTO:-0600
TZNAME:CST
DTSTART:20191103T070000
END:STANDARD
END:VTIMEZONE
BEGIN:VEVENT
DTSTART;VALUE=DATE:20191007
DTEND;VALUE=DATE:20191012
DTSTAMP:20210316T050945
CREATED:20190919T031909Z
LAST-MODIFIED:20190919T031909Z
UID:6795-1570406400-1570838399@test.iisd.org
SUMMARY:15ème RÉUNION GÉNÉRALE DU FIG/IGF : « L'exploitation minière dans un contexte de changement climatique »
DESCRIPTION:15ème RÉUNION GÉNÉRALE DU FIG/IGF : « L’exploitation minière dans un contexte de changement climatique »\, Forum intergouvernemental sur l’exploitation minière\, les minéraux\, les métaux et le développement durable\, à Genève\, Suisse\, https://www.igfmining.org/event/15th-annual-general-meeting
URL:https://test.iisd.org/itn/fr/event/15th-igf-annual-general-meeting-mining-in-a-changing-climate-2/
LOCATION:Palais des Nations\, 1211 Geneva\, Geneva\, Switzerland
END:VEVENT
BEGIN:VEVENT
DTSTART;VALUE=DATE:20191007
DTEND;VALUE=DATE:20191012
DTSTAMP:20210316T050945
CREATED:20190919T031909Z
LAST-MODIFIED:20190919T031909Z
UID:6797-1570406400-1570838399@test.iisd.org
SUMMARY:FORUM PUBLIC DE L’OMC
DESCRIPTION:FORUM PUBLIC DE L’OMC\, au Centre William Rappard\, à Genève\, Suisse\, https://www.wto.org/french/forums_f/public_forum_f/public_forum_f.htm
URL:https://test.iisd.org/itn/fr/event/wto-public-forum-2/
LOCATION:Centre William Rappard\, Rue de Lausanne 154\, Genève\, 1202\, Switzerland
END:VEVENT
BEGIN:VEVENT
DTSTART;VALUE=DATE:20191008
DTEND;VALUE=DATE:20191012
DTSTAMP:20210316T050945
CREATED:20190627T152840Z
LAST-MODIFIED:20190919T031909Z
UID:6497-1570492800-1570838399@test.iisd.org
SUMMARY:FORUM PUBLIC DE L’OMC
DESCRIPTION:FORUM PUBLIC DE L’OMC\, au Centre William Rappard\, à Genève\, Suisse\, https://www.wto.org/french/forums_f/public_forum_f/public_forum_f.htm
URL:https://test.iisd.org/itn/fr/event/wto-public-forum/
LOCATION:WTO\, Geneva\, Switzerland
END:VEVENT
END:VCALENDAR