BEGIN:VCALENDAR
VERSION:2.0
PRODID:-//Investment Treaty News - ECPv5.4.0.2//NONSGML v1.0//EN
CALSCALE:GREGORIAN
METHOD:PUBLISH
X-WR-CALNAME:Investment Treaty News
X-ORIGINAL-URL:https://test.iisd.org/itn/fr
X-WR-CALDESC:évènements pour Investment Treaty News
BEGIN:VTIMEZONE
TZID:America/Winnipeg
BEGIN:DAYLIGHT
TZOFFSETFROM:-0600
TZOFFSETTO:-0500
TZNAME:CDT
DTSTART:20190310T080000
END:DAYLIGHT
BEGIN:STANDARD
TZOFFSETFROM:-0500
TZOFFSETTO:-0600
TZNAME:CST
DTSTART:20191103T070000
END:STANDARD
END:VTIMEZONE
BEGIN:VEVENT
DTSTART;VALUE=DATE:20191104
DTEND;VALUE=DATE:20191108
DTSTAMP:20210316T053312
CREATED:20190919T031909Z
LAST-MODIFIED:20190919T031909Z
UID:6806-1572825600-1573171199@test.iisd.org
SUMMARY:MASTERCLASS SUR L’ARBITRAGE DES INVESTISSEMENTS
DESCRIPTION:MASTERCLASS SUR L’ARBITRAGE DES INVESTISSEMENTS\, à la Charte internationale de l’énergie\, à Bruxelles\, Belgique\, https://energycharter.org/what-we-do/knowledge-centre/training-programmes/training-programme-4-7-november-2019
URL:https://test.iisd.org/itn/fr/event/investment-arbitration-masterclass/
LOCATION:International Energy Charter\, 46 Boulevard de la Woluwe\, Brussels\, B-1200\, Belgium
END:VEVENT
END:VCALENDAR