BEGIN:VCALENDAR
VERSION:2.0
PRODID:-//Investment Treaty News - ECPv5.4.0.2//NONSGML v1.0//EN
CALSCALE:GREGORIAN
METHOD:PUBLISH
X-WR-CALNAME:Investment Treaty News
X-ORIGINAL-URL:https://test.iisd.org/itn/fr
X-WR-CALDESC:évènements pour Investment Treaty News
BEGIN:VTIMEZONE
TZID:America/Winnipeg
BEGIN:DAYLIGHT
TZOFFSETFROM:-0600
TZOFFSETTO:-0500
TZNAME:CDT
DTSTART:20200308T080000
END:DAYLIGHT
BEGIN:STANDARD
TZOFFSETFROM:-0500
TZOFFSETTO:-0600
TZNAME:CST
DTSTART:20201101T070000
END:STANDARD
END:VTIMEZONE
BEGIN:VEVENT
DTSTART;VALUE=DATE:20200330
DTEND;VALUE=DATE:20200404
DTSTAMP:20210316T063720
CREATED:20191216T222753Z
LAST-MODIFIED:20191216T222753Z
UID:7566-1585526400-1585958399@test.iisd.org
SUMMARY:39ème SESSION DU GROUPE DE TRAVAIL III DE LA CNUDCI\, « RÉFORME DU RÈGLEMENT DES DIFFÉRENDS INVESTISSEUR–ÉTAT »
DESCRIPTION:39ème SESSION DU GROUPE DE TRAVAIL III DE LA CNUDCI\, « RÉFORME DU RÈGLEMENT DES DIFFÉRENDS INVESTISSEUR–ÉTAT »\, Commission des Nations Unies sur le droit commercial international\, New York\, États-Unis\, https://uncitral.un.org/fr/working_groups/3/investor-state
URL:https://test.iisd.org/itn/fr/event/39th-session-of-uncitral-working-group-iii-investor-state-dispute-settlement-reform/
LOCATION:United Nations Headquarters\, 46th St & 1st Ave New York\, NY 10017\, New York\, United States
END:VEVENT
END:VCALENDAR