BEGIN:VCALENDAR
VERSION:2.0
PRODID:-//Investment Treaty News - ECPv5.4.0.2//NONSGML v1.0//EN
CALSCALE:GREGORIAN
METHOD:PUBLISH
X-WR-CALNAME:Investment Treaty News
X-ORIGINAL-URL:https://test.iisd.org/itn/fr
X-WR-CALDESC:évènements pour Investment Treaty News
BEGIN:VTIMEZONE
TZID:America/Winnipeg
BEGIN:DAYLIGHT
TZOFFSETFROM:-0600
TZOFFSETTO:-0500
TZNAME:CDT
DTSTART:20200308T080000
END:DAYLIGHT
BEGIN:STANDARD
TZOFFSETFROM:-0500
TZOFFSETTO:-0600
TZNAME:CST
DTSTART:20201101T070000
END:STANDARD
END:VTIMEZONE
BEGIN:VEVENT
DTSTART;VALUE=DATE:20200501
DTEND;VALUE=DATE:20200601
DTSTAMP:20210316T064238
CREATED:20200625T204531Z
LAST-MODIFIED:20200625T204531Z
UID:7737-1588291200-1590969599@test.iisd.org
SUMMARY:13ème FORUM ANNUEL DES NÉGOCIATEURS D’ACCORDS D’INVESTISSEMENT DES PAYS EN DÉVELOPPEMENT
DESCRIPTION:Depuis la rédaction de ce numéro\, de nombreux événements prévus pour les mois suivants ont été annulés ou reportés en raison des risques liés au COVID-19. Il est recommandé de vérifier les dates dans les liens mentionnés. \n13ème FORUM ANNUEL DES NÉGOCIATEURS D’ACCORDS D’INVESTISSEMENT DES PAYS EN DÉVELOPPEMENT\, IISD et le Gouvernement de Thaïlande\, à Bangkok\, Thaïlande\, https://www.iisd.org/event/13th-annual-forum-developing-country-investment-negotiators
URL:https://test.iisd.org/itn/fr/event/13th-annual-forum-of-developing-country-investment-negotiators-2/
LOCATION:Bangkok\, Thailand\, Bangkok\, Thailand
END:VEVENT
END:VCALENDAR