BEGIN:VCALENDAR
VERSION:2.0
PRODID:-//Investment Treaty News - ECPv5.4.0.2//NONSGML v1.0//EN
CALSCALE:GREGORIAN
METHOD:PUBLISH
X-WR-CALNAME:Investment Treaty News
X-ORIGINAL-URL:https://test.iisd.org/itn/fr
X-WR-CALDESC:évènements pour Investment Treaty News
BEGIN:VTIMEZONE
TZID:America/Winnipeg
BEGIN:DAYLIGHT
TZOFFSETFROM:-0600
TZOFFSETTO:-0500
TZNAME:CDT
DTSTART:20200308T080000
END:DAYLIGHT
BEGIN:STANDARD
TZOFFSETFROM:-0500
TZOFFSETTO:-0600
TZNAME:CST
DTSTART:20201101T070000
END:STANDARD
END:VTIMEZONE
BEGIN:VEVENT
DTSTART;VALUE=DATE:20200616
DTEND;VALUE=DATE:20200618
DTSTAMP:20210316T065036
CREATED:20200625T204537Z
LAST-MODIFIED:20200625T204537Z
UID:7742-1592265600-1592438399@test.iisd.org
SUMMARY:FORUM MONDIAL 2020 DE L’OCDE SUR LA CONDUITE RESPONSABLE DES ENTREPRISES
DESCRIPTION:Depuis la rédaction de ce numéro\, de nombreux événements prévus pour les mois suivants ont été annulés ou reportés en raison des risques liés au COVID-19. Il est recommandé de vérifier les dates dans les liens mentionnés. \nFORUM MONDIAL 2020 DE L’OCDE SUR LA CONDUITE RESPONSABLE DES ENTREPRISES\, au centre de conférence de l’OCDE\, à Paris\, France\, https://mneguidelines.oecd.org/global-forum
URL:https://test.iisd.org/itn/fr/event/2020-oecd-global-forum-on-responsible-business-conduct/
LOCATION:OECD Conference Centre\, 2\, rue André Pascal\, Paris\, France
END:VEVENT
BEGIN:VEVENT
DTSTART;VALUE=DATE:20200617
DTEND;VALUE=DATE:20200618
DTSTAMP:20210316T065037
CREATED:20200625T204135Z
LAST-MODIFIED:20200625T204135Z
UID:7960-1592352000-1592438399@test.iisd.org
SUMMARY:Forum mondial de 2020 sur la conduite responsable des entreprises : l’accès aux voies de recours
DESCRIPTION:Forum mondial de 2020 sur la conduite responsable des entreprises : l’accès aux voies de recours\, OCDE (réunion virtuelle)\, https://oecd-events.org/oecd-forum-rbc%20
URL:https://test.iisd.org/itn/fr/event/2020-global-forum-on-responsible-business-conduct-access-to-remedy/
LOCATION:Online
END:VEVENT
END:VCALENDAR